BEGIN:VCALENDAR
VERSION:2.0
PRODID:-//Playden Parish Council//Meeting Calendar//EN
CALSCALE:GREGORIAN
METHOD:PUBLISH
BEGIN:VEVENT
UID:70559-20251204@playdenparishcouncil.gov.uk
DTSTAMP:20260419T125242Z
DTSTART;VALUE=DATE:20251204
DTEND;VALUE=DATE:20251205
SUMMARY:Council Meeting &#8211\\; 4th December 2025
DESCRIPTION:Full Council Meeting\nView details: https://playdenparishcouncil.gov.uk/meetings/council-meeting-4th-december-2025/
URL:https://playdenparishcouncil.gov.uk/meetings/council-meeting-4th-december-2025/
END:VEVENT
END:VCALENDAR
