BEGIN:VCALENDAR
VERSION:2.0
PRODID:-//Playden Parish Council//Meeting Calendar//EN
CALSCALE:GREGORIAN
METHOD:PUBLISH
BEGIN:VEVENT
UID:70558-20251106@playdenparishcouncil.gov.uk
DTSTAMP:20260419T123026Z
DTSTART;VALUE=DATE:20251106
DTEND;VALUE=DATE:20251107
SUMMARY:Council Meeting &#8211\\; 6th November 2025
DESCRIPTION:Full Council Meeting\nView details: https://playdenparishcouncil.gov.uk/meetings/council-meeting-6th-november-2025/
URL:https://playdenparishcouncil.gov.uk/meetings/council-meeting-6th-november-2025/
END:VEVENT
END:VCALENDAR
