BEGIN:VCALENDAR
VERSION:2.0
PRODID:-//Playden Parish Council//Meeting Calendar//EN
CALSCALE:GREGORIAN
METHOD:PUBLISH
BEGIN:VEVENT
UID:70557-20251002@playdenparishcouncil.gov.uk
DTSTAMP:20260419T124412Z
DTSTART;VALUE=DATE:20251002
DTEND;VALUE=DATE:20251003
SUMMARY:Council Meeting &#8211\\; 2nd October 2025
DESCRIPTION:Full Council Meeting\nView details: https://playdenparishcouncil.gov.uk/meetings/council-meeting-2nd-october-2025/
URL:https://playdenparishcouncil.gov.uk/meetings/council-meeting-2nd-october-2025/
END:VEVENT
END:VCALENDAR
