BEGIN:VCALENDAR
VERSION:2.0
PRODID:-//Playden Parish Council//Meeting Calendar//EN
CALSCALE:GREGORIAN
METHOD:PUBLISH
BEGIN:VEVENT
UID:70467-20250206@playdenparishcouncil.gov.uk
DTSTAMP:20260423T085659Z
DTSTART;VALUE=DATE:20250206
DTEND;VALUE=DATE:20250207
SUMMARY:Council Meeting &#8211\\; 6th February 2025
DESCRIPTION:Full Council Meeting\nView details: https://playdenparishcouncil.gov.uk/meetings/council-meeting-6th-february-2025/
URL:https://playdenparishcouncil.gov.uk/meetings/council-meeting-6th-february-2025/
END:VEVENT
END:VCALENDAR
