BEGIN:VCALENDAR
VERSION:2.0
PRODID:-//Playden Parish Council//Meeting Calendar//EN
CALSCALE:GREGORIAN
METHOD:PUBLISH
BEGIN:VEVENT
UID:70464-20250306@playdenparishcouncil.gov.uk
DTSTAMP:20260423T084829Z
DTSTART;VALUE=DATE:20250306
DTEND;VALUE=DATE:20250307
SUMMARY:Council Meeting &#8211\\; 6th March 2025
DESCRIPTION:Full Council Meeting\nView details: https://playdenparishcouncil.gov.uk/meetings/council-meeting-6th-march-2025/
URL:https://playdenparishcouncil.gov.uk/meetings/council-meeting-6th-march-2025/
END:VEVENT
END:VCALENDAR
