BEGIN:VCALENDAR
VERSION:2.0
PRODID:-//Playden Parish Council//Meeting Calendar//EN
CALSCALE:GREGORIAN
METHOD:PUBLISH
BEGIN:VEVENT
UID:70462-20250403@playdenparishcouncil.gov.uk
DTSTAMP:20260423T104307Z
DTSTART;VALUE=DATE:20250403
DTEND;VALUE=DATE:20250404
SUMMARY:Council Meeting &#8211\\; 3rd April 2025
DESCRIPTION:Full Council Meeting\nView details: https://playdenparishcouncil.gov.uk/meetings/council-meeting-3rd-april-2025-2/
URL:https://playdenparishcouncil.gov.uk/meetings/council-meeting-3rd-april-2025-2/
END:VEVENT
END:VCALENDAR
