BEGIN:VCALENDAR
VERSION:2.0
PRODID:-//Playden Parish Council//Meeting Calendar//EN
CALSCALE:GREGORIAN
METHOD:PUBLISH
BEGIN:VEVENT
UID:70458-20250501@playdenparishcouncil.gov.uk
DTSTAMP:20260421T085745Z
DTSTART;VALUE=DATE:20250501
DTEND;VALUE=DATE:20250502
SUMMARY:Annual Council Meeting &#8211\\; 1st May 2025
DESCRIPTION:Annual Parish Meeting\nView details: https://playdenparishcouncil.gov.uk/meetings/annual-council-meeting-1st-may-2025/
URL:https://playdenparishcouncil.gov.uk/meetings/annual-council-meeting-1st-may-2025/
END:VEVENT
END:VCALENDAR
