BEGIN:VCALENDAR
VERSION:2.0
PRODID:-//Playden Parish Council//Meeting Calendar//EN
CALSCALE:GREGORIAN
METHOD:PUBLISH
BEGIN:VEVENT
UID:70444-20250605@playdenparishcouncil.gov.uk
DTSTAMP:20260421T092431Z
DTSTART;VALUE=DATE:20250605
DTEND;VALUE=DATE:20250606
SUMMARY:Council Meeting &#8211\\; 5th June 2025
DESCRIPTION:Full Council Meeting\nView details: https://playdenparishcouncil.gov.uk/meetings/council-meeting-5th-june-2025/
URL:https://playdenparishcouncil.gov.uk/meetings/council-meeting-5th-june-2025/
END:VEVENT
END:VCALENDAR
